BEGIN:VCALENDAR
VERSION:2.0
PRODID:-//Piermont Chess Club - ECPv6.15.20//NONSGML v1.0//EN
CALSCALE:GREGORIAN
METHOD:PUBLISH
X-ORIGINAL-URL:https://piermontchess.com
X-WR-CALDESC:Events for Piermont Chess Club
REFRESH-INTERVAL;VALUE=DURATION:PT1H
X-Robots-Tag:noindex
X-PUBLISHED-TTL:PT1H
BEGIN:VTIMEZONE
TZID:America/Toronto
BEGIN:DAYLIGHT
TZOFFSETFROM:-0500
TZOFFSETTO:-0400
TZNAME:EDT
DTSTART:20250309T070000
END:DAYLIGHT
BEGIN:STANDARD
TZOFFSETFROM:-0400
TZOFFSETTO:-0500
TZNAME:EST
DTSTART:20251102T060000
END:STANDARD
BEGIN:DAYLIGHT
TZOFFSETFROM:-0500
TZOFFSETTO:-0400
TZNAME:EDT
DTSTART:20260308T070000
END:DAYLIGHT
BEGIN:STANDARD
TZOFFSETFROM:-0400
TZOFFSETTO:-0500
TZNAME:EST
DTSTART:20261101T060000
END:STANDARD
BEGIN:DAYLIGHT
TZOFFSETFROM:-0500
TZOFFSETTO:-0400
TZNAME:EDT
DTSTART:20270314T070000
END:DAYLIGHT
BEGIN:STANDARD
TZOFFSETFROM:-0400
TZOFFSETTO:-0500
TZNAME:EST
DTSTART:20271107T060000
END:STANDARD
END:VTIMEZONE
BEGIN:VEVENT
DTSTART;TZID=America/Toronto:20260418T110000
DTEND;TZID=America/Toronto:20260418T150000
DTSTAMP:20260418T120210
CREATED:20260124T063858Z
LAST-MODIFIED:20260412T015323Z
UID:7759-1776510000-1776524400@piermontchess.com
SUMMARY:Pick Your Poison: Rapid or Blitz Tournament
DESCRIPTION:
URL:https://piermontchess.com/index.php/calendar/pick-your-poison-rapid-or-blitz/
END:VEVENT
BEGIN:VEVENT
DTSTART;TZID=America/Toronto:20260425T100000
DTEND;TZID=America/Toronto:20260425T140000
DTSTAMP:20260418T120210
CREATED:20260213T054518Z
LAST-MODIFIED:20260213T054518Z
UID:8489-1777111200-1777125600@piermontchess.com
SUMMARY:Casual Chess
DESCRIPTION:
URL:https://piermontchess.com/index.php/calendar/casual-chess-24/
END:VEVENT
END:VCALENDAR