BEGIN:VCALENDAR
VERSION:2.0
PRODID:-//Piermont Chess Club - ECPv6.15.20//NONSGML v1.0//EN
CALSCALE:GREGORIAN
METHOD:PUBLISH
X-ORIGINAL-URL:https://piermontchess.com
X-WR-CALDESC:Events for Piermont Chess Club
REFRESH-INTERVAL;VALUE=DURATION:PT1H
X-Robots-Tag:noindex
X-PUBLISHED-TTL:PT1H
BEGIN:VTIMEZONE
TZID:America/Toronto
BEGIN:DAYLIGHT
TZOFFSETFROM:-0500
TZOFFSETTO:-0400
TZNAME:EDT
DTSTART:20250309T070000
END:DAYLIGHT
BEGIN:STANDARD
TZOFFSETFROM:-0400
TZOFFSETTO:-0500
TZNAME:EST
DTSTART:20251102T060000
END:STANDARD
BEGIN:DAYLIGHT
TZOFFSETFROM:-0500
TZOFFSETTO:-0400
TZNAME:EDT
DTSTART:20260308T070000
END:DAYLIGHT
BEGIN:STANDARD
TZOFFSETFROM:-0400
TZOFFSETTO:-0500
TZNAME:EST
DTSTART:20261101T060000
END:STANDARD
BEGIN:DAYLIGHT
TZOFFSETFROM:-0500
TZOFFSETTO:-0400
TZNAME:EDT
DTSTART:20270314T070000
END:DAYLIGHT
BEGIN:STANDARD
TZOFFSETFROM:-0400
TZOFFSETTO:-0500
TZNAME:EST
DTSTART:20271107T060000
END:STANDARD
END:VTIMEZONE
BEGIN:VEVENT
DTSTART;TZID=America/Toronto:20260307T110000
DTEND;TZID=America/Toronto:20260307T150000
DTSTAMP:20260421T130617
CREATED:20260124T063706Z
LAST-MODIFIED:20260203T054500Z
UID:7754-1772881200-1772895600@piermontchess.com
SUMMARY:Ascent of Persephone Classic Day 1 - G/60d10
DESCRIPTION:
URL:https://piermontchess.com/index.php/calendar/ascent-of-persephone-classic-day-1/
END:VEVENT
BEGIN:VEVENT
DTSTART;TZID=America/Toronto:20260314T110000
DTEND;TZID=America/Toronto:20260314T150000
DTSTAMP:20260421T130617
CREATED:20260124T063746Z
LAST-MODIFIED:20260203T054453Z
UID:7756-1773486000-1773500400@piermontchess.com
SUMMARY:Ascent of Persephone Classic Day 2 - G/60d10
DESCRIPTION:
URL:https://piermontchess.com/index.php/calendar/ascent-of-persephone-classic-day-2/
END:VEVENT
BEGIN:VEVENT
DTSTART;TZID=America/Toronto:20260321T100000
DTEND;TZID=America/Toronto:20260321T140000
DTSTAMP:20260421T130617
CREATED:20260213T054219Z
LAST-MODIFIED:20260213T054219Z
UID:8481-1774087200-1774101600@piermontchess.com
SUMMARY:Casual Chess
DESCRIPTION:
URL:https://piermontchess.com/index.php/calendar/casual-chess-20/
END:VEVENT
BEGIN:VEVENT
DTSTART;TZID=America/Toronto:20260328T100000
DTEND;TZID=America/Toronto:20260328T140000
DTSTAMP:20260421T130617
CREATED:20260213T054256Z
LAST-MODIFIED:20260213T054256Z
UID:8483-1774692000-1774706400@piermontchess.com
SUMMARY:Casual Chess
DESCRIPTION:
URL:https://piermontchess.com/index.php/calendar/casual-chess-21/
END:VEVENT
END:VCALENDAR