BEGIN:VCALENDAR
VERSION:2.0
PRODID:-//Piermont Chess Club - ECPv6.15.20//NONSGML v1.0//EN
CALSCALE:GREGORIAN
METHOD:PUBLISH
X-ORIGINAL-URL:https://piermontchess.com
X-WR-CALDESC:Events for Piermont Chess Club
REFRESH-INTERVAL;VALUE=DURATION:PT1H
X-Robots-Tag:noindex
X-PUBLISHED-TTL:PT1H
BEGIN:VTIMEZONE
TZID:America/Toronto
BEGIN:DAYLIGHT
TZOFFSETFROM:-0500
TZOFFSETTO:-0400
TZNAME:EDT
DTSTART:20250309T070000
END:DAYLIGHT
BEGIN:STANDARD
TZOFFSETFROM:-0400
TZOFFSETTO:-0500
TZNAME:EST
DTSTART:20251102T060000
END:STANDARD
BEGIN:DAYLIGHT
TZOFFSETFROM:-0500
TZOFFSETTO:-0400
TZNAME:EDT
DTSTART:20260308T070000
END:DAYLIGHT
BEGIN:STANDARD
TZOFFSETFROM:-0400
TZOFFSETTO:-0500
TZNAME:EST
DTSTART:20261101T060000
END:STANDARD
BEGIN:DAYLIGHT
TZOFFSETFROM:-0500
TZOFFSETTO:-0400
TZNAME:EDT
DTSTART:20270314T070000
END:DAYLIGHT
BEGIN:STANDARD
TZOFFSETFROM:-0400
TZOFFSETTO:-0500
TZNAME:EST
DTSTART:20271107T060000
END:STANDARD
END:VTIMEZONE
BEGIN:VEVENT
DTSTART;TZID=America/Toronto:20260103T100000
DTEND;TZID=America/Toronto:20260103T140000
DTSTAMP:20260421T171637
CREATED:20250918T045844Z
LAST-MODIFIED:20250918T045844Z
UID:5412-1767434400-1767448800@piermontchess.com
SUMMARY:Casual Chess
DESCRIPTION:
URL:https://piermontchess.com/index.php/calendar/casual-chess-11/
END:VEVENT
BEGIN:VEVENT
DTSTART;TZID=America/Toronto:20260110T100000
DTEND;TZID=America/Toronto:20260110T140000
DTSTAMP:20260421T171637
CREATED:20250918T045811Z
LAST-MODIFIED:20260110T031309Z
UID:5410-1768039200-1768053600@piermontchess.com
SUMMARY:Casual Chess
DESCRIPTION:
URL:https://piermontchess.com/index.php/calendar/casual-chess-13/
END:VEVENT
BEGIN:VEVENT
DTSTART;TZID=America/Toronto:20260117T110000
DTEND;TZID=America/Toronto:20260117T150000
DTSTAMP:20260421T171637
CREATED:20250918T050331Z
LAST-MODIFIED:20260110T031221Z
UID:5415-1768647600-1768662000@piermontchess.com
SUMMARY:2nd ANNUAL PIERMONT CUP BLITZ CHAMPIONSHIP 2026
DESCRIPTION:
URL:https://piermontchess.com/index.php/calendar/2nd-annual-piermont-cup-blitz-championship-2026/
END:VEVENT
BEGIN:VEVENT
DTSTART;TZID=America/Toronto:20260124T100000
DTEND;TZID=America/Toronto:20260124T140000
DTSTAMP:20260421T171637
CREATED:20250918T050350Z
LAST-MODIFIED:20251222T010345Z
UID:5417-1769248800-1769263200@piermontchess.com
SUMMARY:Casual Chess
DESCRIPTION:
URL:https://piermontchess.com/index.php/calendar/casual-chess-12/
END:VEVENT
BEGIN:VEVENT
DTSTART;TZID=America/Toronto:20260131T100000
DTEND;TZID=America/Toronto:20260131T140000
DTSTAMP:20260421T171637
CREATED:20260110T031417Z
LAST-MODIFIED:20260110T031428Z
UID:7140-1769853600-1769868000@piermontchess.com
SUMMARY:Casual Chess
DESCRIPTION:
URL:https://piermontchess.com/index.php/calendar/casual-chess-16/
END:VEVENT
END:VCALENDAR