BEGIN:VCALENDAR
VERSION:2.0
PRODID:-//Piermont Chess Club - ECPv6.15.20//NONSGML v1.0//EN
CALSCALE:GREGORIAN
METHOD:PUBLISH
X-WR-CALNAME:Piermont Chess Club
X-ORIGINAL-URL:https://piermontchess.com
X-WR-CALDESC:Events for Piermont Chess Club
REFRESH-INTERVAL;VALUE=DURATION:PT1H
X-Robots-Tag:noindex
X-PUBLISHED-TTL:PT1H
BEGIN:VTIMEZONE
TZID:America/Toronto
BEGIN:DAYLIGHT
TZOFFSETFROM:-0500
TZOFFSETTO:-0400
TZNAME:EDT
DTSTART:20240310T070000
END:DAYLIGHT
BEGIN:STANDARD
TZOFFSETFROM:-0400
TZOFFSETTO:-0500
TZNAME:EST
DTSTART:20241103T060000
END:STANDARD
BEGIN:DAYLIGHT
TZOFFSETFROM:-0500
TZOFFSETTO:-0400
TZNAME:EDT
DTSTART:20250309T070000
END:DAYLIGHT
BEGIN:STANDARD
TZOFFSETFROM:-0400
TZOFFSETTO:-0500
TZNAME:EST
DTSTART:20251102T060000
END:STANDARD
BEGIN:DAYLIGHT
TZOFFSETFROM:-0500
TZOFFSETTO:-0400
TZNAME:EDT
DTSTART:20260308T070000
END:DAYLIGHT
BEGIN:STANDARD
TZOFFSETFROM:-0400
TZOFFSETTO:-0500
TZNAME:EST
DTSTART:20261101T060000
END:STANDARD
END:VTIMEZONE
BEGIN:VEVENT
DTSTART;TZID=America/Toronto:20250913T100000
DTEND;TZID=America/Toronto:20250913T140000
DTSTAMP:20260421T220743
CREATED:20250829T060620Z
LAST-MODIFIED:20250903T065705Z
UID:5164-1757757600-1757772000@piermontchess.com
SUMMARY:Casual Chess
DESCRIPTION:
URL:https://piermontchess.com/index.php/calendar/casual-chess-5/
END:VEVENT
BEGIN:VEVENT
DTSTART;TZID=America/Toronto:20250906T100000
DTEND;TZID=America/Toronto:20250906T140000
DTSTAMP:20260421T220743
CREATED:20250829T054113Z
LAST-MODIFIED:20250829T054113Z
UID:5147-1757152800-1757167200@piermontchess.com
SUMMARY:Casual Chess
DESCRIPTION:
URL:https://piermontchess.com/index.php/calendar/casual-chess/
END:VEVENT
BEGIN:VEVENT
DTSTART;TZID=America/Toronto:20250830T103000
DTEND;TZID=America/Toronto:20250830T140000
DTSTAMP:20260421T220743
CREATED:20250829T052423Z
LAST-MODIFIED:20250829T061257Z
UID:5116-1756549800-1756562400@piermontchess.com
SUMMARY:August 30 Blitz Tournament! 9-SS\, G/5+1
DESCRIPTION:
URL:https://piermontchess.com/index.php/calendar/august-30-blitz-tournament/
END:VEVENT
BEGIN:VEVENT
DTSTART;TZID=America/Toronto:20250823T100000
DTEND;TZID=America/Toronto:20250823T140000
DTSTAMP:20260421T220743
CREATED:20250829T054714Z
LAST-MODIFIED:20250829T054714Z
UID:5154-1755943200-1755957600@piermontchess.com
SUMMARY:Casual Chess
DESCRIPTION:
URL:https://piermontchess.com/index.php/calendar/casual-chess-2/
END:VEVENT
END:VCALENDAR