BEGIN:VCALENDAR
VERSION:2.0
PRODID:-//Piermont Chess Club - ECPv6.15.20//NONSGML v1.0//EN
CALSCALE:GREGORIAN
METHOD:PUBLISH
X-WR-CALNAME:Piermont Chess Club
X-ORIGINAL-URL:https://piermontchess.com
X-WR-CALDESC:Events for Piermont Chess Club
REFRESH-INTERVAL;VALUE=DURATION:PT1H
X-Robots-Tag:noindex
X-PUBLISHED-TTL:PT1H
BEGIN:VTIMEZONE
TZID:America/Toronto
BEGIN:DAYLIGHT
TZOFFSETFROM:-0500
TZOFFSETTO:-0400
TZNAME:EDT
DTSTART:20240310T070000
END:DAYLIGHT
BEGIN:STANDARD
TZOFFSETFROM:-0400
TZOFFSETTO:-0500
TZNAME:EST
DTSTART:20241103T060000
END:STANDARD
BEGIN:DAYLIGHT
TZOFFSETFROM:-0500
TZOFFSETTO:-0400
TZNAME:EDT
DTSTART:20250309T070000
END:DAYLIGHT
BEGIN:STANDARD
TZOFFSETFROM:-0400
TZOFFSETTO:-0500
TZNAME:EST
DTSTART:20251102T060000
END:STANDARD
BEGIN:DAYLIGHT
TZOFFSETFROM:-0500
TZOFFSETTO:-0400
TZNAME:EDT
DTSTART:20260308T070000
END:DAYLIGHT
BEGIN:STANDARD
TZOFFSETFROM:-0400
TZOFFSETTO:-0500
TZNAME:EST
DTSTART:20261101T060000
END:STANDARD
BEGIN:DAYLIGHT
TZOFFSETFROM:-0500
TZOFFSETTO:-0400
TZNAME:EDT
DTSTART:20270314T070000
END:DAYLIGHT
BEGIN:STANDARD
TZOFFSETFROM:-0400
TZOFFSETTO:-0500
TZNAME:EST
DTSTART:20271107T060000
END:STANDARD
END:VTIMEZONE
BEGIN:VEVENT
DTSTART;TZID=America/Toronto:20260131T100000
DTEND;TZID=America/Toronto:20260131T140000
DTSTAMP:20260421T191522
CREATED:20260110T031417Z
LAST-MODIFIED:20260110T031428Z
UID:7140-1769853600-1769868000@piermontchess.com
SUMMARY:Casual Chess
DESCRIPTION:
URL:https://piermontchess.com/index.php/calendar/casual-chess-16/
END:VEVENT
BEGIN:VEVENT
DTSTART;TZID=America/Toronto:20260124T100000
DTEND;TZID=America/Toronto:20260124T140000
DTSTAMP:20260421T191522
CREATED:20250918T050350Z
LAST-MODIFIED:20251222T010345Z
UID:5417-1769248800-1769263200@piermontchess.com
SUMMARY:Casual Chess
DESCRIPTION:
URL:https://piermontchess.com/index.php/calendar/casual-chess-12/
END:VEVENT
BEGIN:VEVENT
DTSTART;TZID=America/Toronto:20260117T110000
DTEND;TZID=America/Toronto:20260117T150000
DTSTAMP:20260421T191522
CREATED:20250918T050331Z
LAST-MODIFIED:20260110T031221Z
UID:5415-1768647600-1768662000@piermontchess.com
SUMMARY:2nd ANNUAL PIERMONT CUP BLITZ CHAMPIONSHIP 2026
DESCRIPTION:
URL:https://piermontchess.com/index.php/calendar/2nd-annual-piermont-cup-blitz-championship-2026/
END:VEVENT
BEGIN:VEVENT
DTSTART;TZID=America/Toronto:20260110T100000
DTEND;TZID=America/Toronto:20260110T140000
DTSTAMP:20260421T191522
CREATED:20250918T045811Z
LAST-MODIFIED:20260110T031309Z
UID:5410-1768039200-1768053600@piermontchess.com
SUMMARY:Casual Chess
DESCRIPTION:
URL:https://piermontchess.com/index.php/calendar/casual-chess-13/
END:VEVENT
BEGIN:VEVENT
DTSTART;TZID=America/Toronto:20260103T100000
DTEND;TZID=America/Toronto:20260103T140000
DTSTAMP:20260421T191522
CREATED:20250918T045844Z
LAST-MODIFIED:20250918T045844Z
UID:5412-1767434400-1767448800@piermontchess.com
SUMMARY:Casual Chess
DESCRIPTION:
URL:https://piermontchess.com/index.php/calendar/casual-chess-11/
END:VEVENT
BEGIN:VEVENT
DTSTART;VALUE=DATE:20251227
DTEND;VALUE=DATE:20251228
DTSTAMP:20260421T191522
CREATED:20250918T045151Z
LAST-MODIFIED:20250918T045319Z
UID:5404-1766793600-1766879999@piermontchess.com
SUMMARY:CLOSED
DESCRIPTION:
URL:https://piermontchess.com/index.php/calendar/closed-3/
END:VEVENT
BEGIN:VEVENT
DTSTART;TZID=America/Toronto:20251220T100000
DTEND;TZID=America/Toronto:20251220T140000
DTSTAMP:20260421T191522
CREATED:20250918T044835Z
LAST-MODIFIED:20251205T040247Z
UID:5398-1766224800-1766239200@piermontchess.com
SUMMARY:Casual Chess
DESCRIPTION:
URL:https://piermontchess.com/index.php/calendar/casual-chess-10/
END:VEVENT
BEGIN:VEVENT
DTSTART;TZID=America/Toronto:20251213T100000
DTEND;TZID=America/Toronto:20251213T140000
DTSTAMP:20260421T191522
CREATED:20250918T045000Z
LAST-MODIFIED:20251205T040303Z
UID:5402-1765620000-1765634400@piermontchess.com
SUMMARY:Casual Chess
DESCRIPTION:
URL:https://piermontchess.com/index.php/calendar/casual-chess-15/
END:VEVENT
BEGIN:VEVENT
DTSTART;TZID=America/Toronto:20251206T100000
DTEND;TZID=America/Toronto:20251206T140000
DTSTAMP:20260421T191522
CREATED:20250918T044927Z
LAST-MODIFIED:20251024T021505Z
UID:5400-1765015200-1765029600@piermontchess.com
SUMMARY:Casual Chess
DESCRIPTION:
URL:https://piermontchess.com/index.php/calendar/casual-chess-14/
END:VEVENT
BEGIN:VEVENT
DTSTART;VALUE=DATE:20251129
DTEND;VALUE=DATE:20251130
DTSTAMP:20260421T191522
CREATED:20250918T044608Z
LAST-MODIFIED:20250918T045311Z
UID:5396-1764374400-1764460799@piermontchess.com
SUMMARY:CLOSED
DESCRIPTION:
URL:https://piermontchess.com/index.php/calendar/closed-2/
END:VEVENT
BEGIN:VEVENT
DTSTART;TZID=America/Toronto:20251122T100000
DTEND;TZID=America/Toronto:20251122T140000
DTSTAMP:20260421T191522
CREATED:20250918T044508Z
LAST-MODIFIED:20251024T022216Z
UID:5393-1763805600-1763820000@piermontchess.com
SUMMARY:Blitz OPEN G/3+2
DESCRIPTION:
URL:https://piermontchess.com/index.php/calendar/casual-chess-9/
END:VEVENT
BEGIN:VEVENT
DTSTART;TZID=America/Toronto:20251115T100000
DTEND;TZID=America/Toronto:20251115T140000
DTSTAMP:20260421T191522
CREATED:20250918T044443Z
LAST-MODIFIED:20250918T044443Z
UID:5391-1763200800-1763215200@piermontchess.com
SUMMARY:Casual Chess
DESCRIPTION:
URL:https://piermontchess.com/index.php/calendar/casual-chess-8/
END:VEVENT
BEGIN:VEVENT
DTSTART;TZID=America/Toronto:20251108T100000
DTEND;TZID=America/Toronto:20251108T140000
DTSTAMP:20260421T191522
CREATED:20250918T044359Z
LAST-MODIFIED:20251024T021307Z
UID:5389-1762596000-1762610400@piermontchess.com
SUMMARY:Rated Beginner Open (U1200)
DESCRIPTION:
URL:https://piermontchess.com/index.php/calendar/rated-beginner-open-u1200/
END:VEVENT
BEGIN:VEVENT
DTSTART;TZID=America/Toronto:20251101T100000
DTEND;TZID=America/Toronto:20251101T140000
DTSTAMP:20260421T191522
CREATED:20250918T044252Z
LAST-MODIFIED:20250918T044252Z
UID:5387-1761991200-1762005600@piermontchess.com
SUMMARY:Casual Chess
DESCRIPTION:
URL:https://piermontchess.com/index.php/calendar/casual-chess-7/
END:VEVENT
BEGIN:VEVENT
DTSTART;TZID=America/Toronto:20251025T100000
DTEND;TZID=America/Toronto:20251025T140000
DTSTAMP:20260421T191522
CREATED:20250918T044123Z
LAST-MODIFIED:20250918T044123Z
UID:5385-1761386400-1761400800@piermontchess.com
SUMMARY:Casual Chess
DESCRIPTION:
URL:https://piermontchess.com/index.php/calendar/casual-chess-6/
END:VEVENT
BEGIN:VEVENT
DTSTART;TZID=America/Toronto:20251018T100000
DTEND;TZID=America/Toronto:20251018T140000
DTSTAMP:20260421T191522
CREATED:20250918T044042Z
LAST-MODIFIED:20251003T050523Z
UID:5383-1760781600-1760796000@piermontchess.com
SUMMARY:October 18th UNRATED Rapid OR Blitz Twin Tournaments!
DESCRIPTION:
URL:https://piermontchess.com/index.php/calendar/october-18th-unrated-rapid-or-blitz-combo-event/
END:VEVENT
BEGIN:VEVENT
DTSTART;TZID=America/Toronto:20251011T100000
DTEND;TZID=America/Toronto:20251011T140000
DTSTAMP:20260421T191522
CREATED:20250918T043318Z
LAST-MODIFIED:20250918T043318Z
UID:5373-1760176800-1760191200@piermontchess.com
SUMMARY:Casual Chess
DESCRIPTION:
URL:https://piermontchess.com/index.php/calendar/casual-chess-3/
END:VEVENT
BEGIN:VEVENT
DTSTART;VALUE=DATE:20251004
DTEND;VALUE=DATE:20251005
DTSTAMP:20260421T191522
CREATED:20250918T044002Z
LAST-MODIFIED:20250918T044002Z
UID:5381-1759536000-1759622399@piermontchess.com
SUMMARY:CLOSED
DESCRIPTION:
URL:https://piermontchess.com/index.php/calendar/closed/
END:VEVENT
BEGIN:VEVENT
DTSTART;TZID=America/Toronto:20250927T103000
DTEND;TZID=America/Toronto:20250927T143000
DTSTAMP:20260421T191522
CREATED:20250829T060230Z
LAST-MODIFIED:20250829T060244Z
UID:5161-1758969000-1758983400@piermontchess.com
SUMMARY:Billy's B-day Action 2.0!
DESCRIPTION:
URL:https://piermontchess.com/index.php/calendar/billys-bday-action/
END:VEVENT
BEGIN:VEVENT
DTSTART;TZID=America/Toronto:20250920T100000
DTEND;TZID=America/Toronto:20250920T140000
DTSTAMP:20260421T191522
CREATED:20250829T060759Z
LAST-MODIFIED:20250829T060759Z
UID:5167-1758362400-1758376800@piermontchess.com
SUMMARY:Casual Chess
DESCRIPTION:
URL:https://piermontchess.com/index.php/calendar/casual-chess-4/
END:VEVENT
BEGIN:VEVENT
DTSTART;TZID=America/Toronto:20250913T100000
DTEND;TZID=America/Toronto:20250913T140000
DTSTAMP:20260421T191522
CREATED:20250829T060620Z
LAST-MODIFIED:20250903T065705Z
UID:5164-1757757600-1757772000@piermontchess.com
SUMMARY:Casual Chess
DESCRIPTION:
URL:https://piermontchess.com/index.php/calendar/casual-chess-5/
END:VEVENT
BEGIN:VEVENT
DTSTART;TZID=America/Toronto:20250906T100000
DTEND;TZID=America/Toronto:20250906T140000
DTSTAMP:20260421T191522
CREATED:20250829T054113Z
LAST-MODIFIED:20250829T054113Z
UID:5147-1757152800-1757167200@piermontchess.com
SUMMARY:Casual Chess
DESCRIPTION:
URL:https://piermontchess.com/index.php/calendar/casual-chess/
END:VEVENT
BEGIN:VEVENT
DTSTART;TZID=America/Toronto:20250830T103000
DTEND;TZID=America/Toronto:20250830T140000
DTSTAMP:20260421T191522
CREATED:20250829T052423Z
LAST-MODIFIED:20250829T061257Z
UID:5116-1756549800-1756562400@piermontchess.com
SUMMARY:August 30 Blitz Tournament! 9-SS\, G/5+1
DESCRIPTION:
URL:https://piermontchess.com/index.php/calendar/august-30-blitz-tournament/
END:VEVENT
BEGIN:VEVENT
DTSTART;TZID=America/Toronto:20250823T100000
DTEND;TZID=America/Toronto:20250823T140000
DTSTAMP:20260421T191522
CREATED:20250829T054714Z
LAST-MODIFIED:20250829T054714Z
UID:5154-1755943200-1755957600@piermontchess.com
SUMMARY:Casual Chess
DESCRIPTION:
URL:https://piermontchess.com/index.php/calendar/casual-chess-2/
END:VEVENT
END:VCALENDAR